BEGIN:VCALENDAR
VERSION:2.0
PRODID:-//Recipe for Success - ECPv6.15.17//NONSGML v1.0//EN
CALSCALE:GREGORIAN
METHOD:PUBLISH
X-ORIGINAL-URL:https://recipeforsuccess.uncg.edu
X-WR-CALDESC:Events for Recipe for Success
REFRESH-INTERVAL;VALUE=DURATION:PT1H
X-Robots-Tag:noindex
X-PUBLISHED-TTL:PT1H
BEGIN:VTIMEZONE
TZID:America/New_York
BEGIN:DAYLIGHT
TZOFFSETFROM:-0500
TZOFFSETTO:-0400
TZNAME:EDT
DTSTART:20240310T070000
END:DAYLIGHT
BEGIN:STANDARD
TZOFFSETFROM:-0400
TZOFFSETTO:-0500
TZNAME:EST
DTSTART:20241103T060000
END:STANDARD
BEGIN:DAYLIGHT
TZOFFSETFROM:-0500
TZOFFSETTO:-0400
TZNAME:EDT
DTSTART:20250309T070000
END:DAYLIGHT
BEGIN:STANDARD
TZOFFSETFROM:-0400
TZOFFSETTO:-0500
TZNAME:EST
DTSTART:20251102T060000
END:STANDARD
BEGIN:DAYLIGHT
TZOFFSETFROM:-0500
TZOFFSETTO:-0400
TZNAME:EDT
DTSTART:20260308T070000
END:DAYLIGHT
BEGIN:STANDARD
TZOFFSETFROM:-0400
TZOFFSETTO:-0500
TZNAME:EST
DTSTART:20261101T060000
END:STANDARD
END:VTIMEZONE
BEGIN:VEVENT
DTSTART;TZID=America/New_York:20250226T091500
DTEND;TZID=America/New_York:20250226T120000
DTSTAMP:20260420T120957
CREATED:20250211T193238Z
LAST-MODIFIED:20250211T200009Z
UID:10000063-1740561300-1740571200@recipeforsuccess.uncg.edu
SUMMARY:Harvest for Healthy Kids - His Glory Child Development Center
DESCRIPTION:Beginning February 5\, educators will be working with three preschool classes for a duration of 6 weeks. We are very excited for the opportunity to work with the preschoolers at His Glory Child Development Center\, offering the Harvest for Healthy Kids curriculum. Private class\, only open to participants in the organization.\n________________________________________________________________________________\nMicrosoft Teams Need help?\nJoin the meeting now\nMeeting ID: 220 028 969 478\nPasscode: xo9Jm2Bd\n________________________________\nFor organizers: Meeting options\n________________________________________________________________________________
URL:https://recipeforsuccess.uncg.edu/event/harvest-for-healthy-kids-his-glory-child-development-center-5/
LOCATION:His Glory Child Development Center\, 3223 Yanceyville St\, Greensboro\, NC\, 27405\, United States
CATEGORIES:Harvest for Healthy Kids
END:VEVENT
BEGIN:VEVENT
DTSTART;TZID=America/New_York:20250226T150000
DTEND;TZID=America/New_York:20250226T160000
DTSTAMP:20260420T120957
CREATED:20250211T193239Z
LAST-MODIFIED:20250211T195405Z
UID:10000064-1740582000-1740585600@recipeforsuccess.uncg.edu
SUMMARY:Culinary Kids - Warnersville Recreation Center
DESCRIPTION:Culinary Kids is an educational program aimed at imparting fundamental kitchen skills to children\, fostering both culinary competence and a sense of independence. Through hands-on activities\, participants learn essential techniques such as measuring ingredients\, safe knife handling\, and basic cooking methods. This class is private and require registration through Warnersville Recreation Center.\n________________________________________________________________________________\nMicrosoft Teams Need help?\nJoin the meeting now\nMeeting ID: 256 137 225 200\nPasscode: J82yZ7oj\n________________________________\nFor organizers: Meeting options\n________________________________________________________________________________
URL:https://recipeforsuccess.uncg.edu/event/culinary-kids-warnersville-recreation-center-4/
LOCATION:Warnersville Recreation Center\, 601 Doak St\, Greensboro\, NC\, United States
CATEGORIES:Culinary Kids
GEO:35.991647;-79.759794
X-APPLE-STRUCTURED-LOCATION;VALUE=URI;X-ADDRESS=Warnersville Recreation Center 601 Doak St Greensboro NC United States;X-APPLE-RADIUS=500;X-TITLE=601 Doak St:geo:-79.759794,35.991647
END:VEVENT
END:VCALENDAR