BEGIN:VCALENDAR
VERSION:2.0
PRODID:-//Recipe for Success - ECPv6.15.17//NONSGML v1.0//EN
CALSCALE:GREGORIAN
METHOD:PUBLISH
X-WR-CALNAME:Recipe for Success
X-ORIGINAL-URL:https://recipeforsuccess.uncg.edu
X-WR-CALDESC:Events for Recipe for Success
REFRESH-INTERVAL;VALUE=DURATION:PT1H
X-Robots-Tag:noindex
X-PUBLISHED-TTL:PT1H
BEGIN:VTIMEZONE
TZID:America/New_York
BEGIN:DAYLIGHT
TZOFFSETFROM:-0500
TZOFFSETTO:-0400
TZNAME:EDT
DTSTART:20240310T070000
END:DAYLIGHT
BEGIN:STANDARD
TZOFFSETFROM:-0400
TZOFFSETTO:-0500
TZNAME:EST
DTSTART:20241103T060000
END:STANDARD
BEGIN:DAYLIGHT
TZOFFSETFROM:-0500
TZOFFSETTO:-0400
TZNAME:EDT
DTSTART:20250309T070000
END:DAYLIGHT
BEGIN:STANDARD
TZOFFSETFROM:-0400
TZOFFSETTO:-0500
TZNAME:EST
DTSTART:20251102T060000
END:STANDARD
BEGIN:DAYLIGHT
TZOFFSETFROM:-0500
TZOFFSETTO:-0400
TZNAME:EDT
DTSTART:20260308T070000
END:DAYLIGHT
BEGIN:STANDARD
TZOFFSETFROM:-0400
TZOFFSETTO:-0500
TZNAME:EST
DTSTART:20261101T060000
END:STANDARD
END:VTIMEZONE
BEGIN:VEVENT
DTSTART;TZID=America/New_York:20250604T120000
DTEND;TZID=America/New_York:20250604T130000
DTSTAMP:20260421T125132
CREATED:20241025T145407Z
LAST-MODIFIED:20250211T194906Z
UID:10000048-1749038400-1749042000@recipeforsuccess.uncg.edu
SUMMARY:Food Demonstration - One Step Further
DESCRIPTION:Recipe for Success will be at One Step Further\, the food pantry\, to prepare a food demonstration. This is a public event. Come\, watch and ask questions!
URL:https://recipeforsuccess.uncg.edu/event/food-demonstration-one-step-further-10/
LOCATION:Definition Church\, 1806 Merritt Dr\, Greensboro\, NC\, United States
CATEGORIES:Food Demonstrations,One Step Further
GEO:36.048246;-79.856238
X-APPLE-STRUCTURED-LOCATION;VALUE=URI;X-ADDRESS=Definition Church 1806 Merritt Dr Greensboro NC United States;X-APPLE-RADIUS=500;X-TITLE=1806 Merritt Dr:geo:-79.856238,36.048246
END:VEVENT
BEGIN:VEVENT
DTSTART;TZID=America/New_York:20250604T133000
DTEND;TZID=America/New_York:20250604T140000
DTSTAMP:20260421T125132
CREATED:20250211T193450Z
LAST-MODIFIED:20250211T195134Z
UID:10000129-1749043800-1749045600@recipeforsuccess.uncg.edu
SUMMARY:Food and Mood - Thomasville Seniors
DESCRIPTION:Many things can affect our moods and thus the quality of our lives adversely. However\, what we eat and how we eat it can help us be in charge!  This is a series  of classes that teach ways to make choices  and decisions  to live our best lives! This class is open to the public.\n________________________________________________________________________________\nMicrosoft Teams Need help?\nJoin the meeting now\nMeeting ID: 233 111 917 945\nPasscode: bU295Hr3\n________________________________\nFor organizers: Meeting options\n________________________________________________________________________________
URL:https://recipeforsuccess.uncg.edu/event/food-and-mood-thomasville-seniors-13/
LOCATION:Ball Park Community Center\, 7003 Ball Park Dr.\, Thomasville\, NC\, 27161\, United States
CATEGORIES:Food & Mood
GEO:35.852081;-80.077544
X-APPLE-STRUCTURED-LOCATION;VALUE=URI;X-ADDRESS=Ball Park Community Center 7003 Ball Park Dr. Thomasville NC 27161 United States;X-APPLE-RADIUS=500;X-TITLE=7003 Ball Park Dr.:geo:-80.077544,35.852081
END:VEVENT
END:VCALENDAR